BEGIN:VCALENDAR
VERSION:2.0
PRODID:-//Sabre//Sabre VObject 4.5.7//EN
CALSCALE:GREGORIAN
BEGIN:VEVENT
UID:sabre-vobject-839741f1-86a9-41b8-bb15-8296a36f9d0a
DTSTAMP:20260421T144030Z
DTSTAMP;TZID=Europe/Berlin:20260421T163629
DTSTAMP:20260421T144031Z
CLASS:PUBLIC
TRANSP:TRANSPARENT
ORGANIZER;CN=Evangelisches Jugendwerk Stuttgart-Vaihingen:MAILTO:mail@jugen
 dwerk-vaihingen.de
SUMMARY:Kaffee Konfus Übernachtungsspecial
DESCRIPTION:Übernachtung an Christi Himmelfahrt für Jugendliche ab 13 Jah
 ren
DTSTART;TZID=Europe/Berlin:20260513T203000
DTEND;TZID=Europe/Berlin:20260514T110000
URL;VALUE=URI:https://ejdv-anmeldung.de/event/182
END:VEVENT
END:VCALENDAR
